BEGIN:VCALENDAR
VERSION:2.0
PRODID:-//Devpost\, Inc.//Hackstreet 2k26//EN
CALSCALE:GREGORIAN
BEGIN:VTIMEZONE
TZID:Asia/Kolkata
BEGIN:STANDARD
DTSTART:19451014T230000
TZOFFSETFROM:+0630
TZOFFSETTO:+0530
TZNAME:IST
END:STANDARD
END:VTIMEZONE
BEGIN:VEVENT
DTSTAMP:20260425T125122Z
UID:0b2a871f-69f8-4a8e-a771-70b211801642
DTSTART;TZID=Asia/Kolkata:20260430T234500
DTEND;TZID=Asia/Kolkata:20260430T234500
DESCRIPTION:https://hackstreet-2k26.devpost.com/
SUMMARY:Hackstreet 2k26 submission deadline
BEGIN:VALARM
ACTION:DISPLAY
TRIGGER:-P7D
SUMMARY:Just 7 left days until the submission deadline!
END:VALARM
END:VEVENT
END:VCALENDAR
